BEGIN:VCALENDAR
VERSION:2.0
X-WR-TIMEZONE:Europe/Paris
PRODID:-//Audencia//NONSGML v1.0//EN
CALSCALE:GREGORIAN
BEGIN:VEVENT
SUMMARY:POSTPONED! Audencia Around the World on Réunion Island
DTSTART:20200326T190000
DTEND:20200326T210000
UID:677
DTSTAMP:20260425T205848
LOCATION:TBC ASAP Saint Denis Réunion
DESCRIPTION:The Réunion Island stopover of Around the World has been postponed.\n\nAs soon as we know more about the new date for this event, we will share the details with you.\n\nA new community of Audencia Alumni can be found in the middle of the Indian Ocean on Île de la Réunion. They are getting together for the first time ever on Thursday 26 March at 7pm. The venue for this inaugural meeting will be confirmed in the coming days.\n\nWhether you are in Saint-Denis forever or just for a day, come and join them!\n\nTo discover which cities are hosting an Around the World event, click on the image below\n \n
BEGIN:VALARM
ACTION:DISPLAY
TRIGGER:-PT60M
DESCRIPTION:POSTPONED! Audencia Around the World on Réunion Island
END:VALARM
END:VEVENT
END:VCALENDAR