BEGIN:VCALENDAR
VERSION:2.0
X-WR-TIMEZONE:Europe/Paris
PRODID:-//Audencia//NONSGML v1.0//EN
CALSCALE:GREGORIAN
BEGIN:VEVENT
SUMMARY:REPORTE - Conférence : Vins et Créativité
DTSTART:20200610T193000
DTEND:20200610T220000
UID:675
DTSTAMP:20260425T210122
LOCATION:Audencia Executive Center 95 rue Falguière 75018 Paris
DESCRIPTION:Nous sommes ravis de vous inviter à une conférence sur les vins et la créativité animée par Blandine ETIENNE-KAHN (GE 94) et Sophie ROULE (GE 01).
BEGIN:VALARM
ACTION:DISPLAY
TRIGGER:-PT60M
DESCRIPTION:REPORTE - Conférence : Vins et Créativité
END:VALARM
END:VEVENT
END:VCALENDAR