BEGIN:VCALENDAR
VERSION:2.0
X-WR-TIMEZONE:Europe/Paris
PRODID:-//Audencia//NONSGML v1.0//EN
CALSCALE:GREGORIAN
BEGIN:VEVENT
SUMMARY:Reporté - Club Audencia Pour Elles - Vins, une pointe d’épices, une touche de poésie
DTSTART:20200423T200000
DTEND:20200423T223000
UID:674
DTSTAMP:20260425T205849
LOCATION:Salon Signature Hôtel Vernet, Champs - Élysées Rue Vernet 75008 Paris
DESCRIPTION:L’Hôtel Vernet accueillera au sein de son salon Signature, privatisé à cet effet, les femmes d’Audencia amatrices de découvertes oenologiques et gustatives, pour une nouvelle balade sensorielle, au coeur des épices… et teintée de poésie! Un joli moment de partages en perspective!\n\n\n 
BEGIN:VALARM
ACTION:DISPLAY
TRIGGER:-PT60M
DESCRIPTION:Reporté - Club Audencia Pour Elles - Vins, une pointe d’épices, une touche de poésie
END:VALARM
END:VEVENT
END:VCALENDAR