BEGIN:VCALENDAR
VERSION:2.0
X-WR-TIMEZONE:Europe/Paris
PRODID:-//Audencia//NONSGML v1.0//EN
CALSCALE:GREGORIAN
BEGIN:VEVENT
SUMMARY:Webinar: demystifying personal branding
DTSTART:20200520T130000
DTEND:20200520T140000
UID:671
DTSTAMP:20260425T205728
LOCATION:
DESCRIPTION:Demystifying personal branding\n\nDate: 20 May 2020\nTime: 13:00-14:00 Paris time\nInternational marketing and digital strategist, coach, board advisor and researcher, Dr Geraint Evans, will explore the complex world of personal branding in our May webinar. This will be a practical session designed to help you to develop your own personal brand strategy and navigate the rapidly evolving social media landscape.\n\nThe session will begin with an overview of key content, consumption and technology trends underpinning social media’s role in our lives as business leaders. The session will then consider the challenges, dilemmas and options of establishing your own personal brand identity online on platforms such as LinkedIn, before exploring different approaches to actively managing your personal and professional identity and the role of personal brand in recruitment.\n\nDesigned to be an open and informative discussion, attendees are encouraged to share their own challenges and questions throughout to help stimulate a conversation and develop practical ideas that you can implement.\nAbout our speaker\nDr Geraint Evans is an award-winning international marketing and digital strategist, board advisor, coach and researcher, He has held a variety of leadership roles and delivered work for brands such as ODEON Cinemas Group, Virgin Media, Tesco, Boots and Whitbread.  A regular keynote speaker at international events such as the Mobile World Congress, Marketing Week Live, SMWLDN & PI Live, Geraint also writes for the likes of VentureBeat, Econsultancy and Thrive Global. Geraint has a PhD in marketing and entrepreneurship, is a Visiting Research Fellow at St Mary’s University, London and is a Fellow of CIM. \n\n \nTo join the webinar\nREGISTER HERE\n \n\nDid you graduate from an AMBA-accredited programme at Audencia?\nThis webinar is accessible to students or alumni of an AMBA-accredited programme at Audencia, i.e., Executive MBA, EuroMBA, Full-Time MBA or Master in Management (Grande Ecole Programme), but registration is required. Registering as an alum of an AMBA-accredited programme takes only a few minutes.\nThis event is free for AMBA members to attend but registration is required using the link above.
BEGIN:VALARM
ACTION:DISPLAY
TRIGGER:-PT60M
DESCRIPTION:Webinar: demystifying personal branding
END:VALARM
END:VEVENT
END:VCALENDAR