BEGIN:VCALENDAR
VERSION:2.0
X-WR-TIMEZONE:Europe/Paris
PRODID:-//Audencia//NONSGML v1.0//EN
CALSCALE:GREGORIAN
BEGIN:VEVENT
SUMMARY:Inauguration du MEDIACAMPUS - réservé alumni Audencia SciencesCom
DTSTART:20170908T113000
DTEND:20170908T235900
UID:67
DTSTAMP:20260425T205722
LOCATION:MEDIACAMPUS 41 boulevard de la Prairie-au-Duc 44200 Nantes
DESCRIPTION:Vous êtes invité(e) à l'inauguration officielle du MEDIACAMPUS, le hub de la communication et des médias sur l'île de Nantes, le vendredi 8 septembre 2017 à partir de 11h30.\n\nIndisponible toute la journée, un temps exclusivement consacré aux alumni Audencia SciencesCom vous permettra de vous retrouver pour un moment convivial et festif à partir de 19h jusqu'à tard dans la soirée. \n \nProgramme de la journée:\n \nMatin :\n11h30 : Emission "Bienvenue au MEDIACAMPUS" en direct sur Télénantes et en duplex dans le hall, avec la participation de :\n- Philippe Grosvalet, Président du Conseil Départemental de Loire-Atlantique\n- Laurent Métral, Président Audencia Business School\n- Bruno Retailleau, Président du Conseil Régional des Pays de la Loire\n- Johanna Rolland, Maire de Nantes\n- Yann Trichard, Président de la CCI Nantes Saint-Nazaire\n12h30 : Inauguration officielle en présence de Mathieu Gallet, Président-directeur général de Radio France.\n12h45 : Découverte du lieu à travers une visite animée par les étudiants d'Audencia Sciencescom suivie d'un cocktail déjeunatoire\n \nAprès-midi :\n14h00 : Table ronde : "L'avenir du secteur de la communication et des médias et ses implications sur les métiers et les compétences recherchées", animée par Clément Lesort, Journaliste\navec la participation de :\n- Zysla Belliat, Dirigeante MMZ Conseil, Présidente d'honneur de l'IREP\n- Jean-Marie Charon, Sociologue à l'EHESS, auteur de "la presse d'information multisupports" chez UPRR\n- Laurent Gaudichaud, Directeur de la communication France et des médias SUEZ Groupe\n16h00 : Restitution des projets étudiants réalisés lors du séminaire de rentrée\n17h30 : Goûter de clôture \n \nSoirée :\n\n19h00 : Cocktail dinatoire suivi d’une soirée dansante animée par Deejay Pharoah\n \n\nINSCRIPTION OBLIGATOIRE (nombre de places limité) : cliquez ici\n\n\n 
BEGIN:VALARM
ACTION:DISPLAY
TRIGGER:-PT60M
DESCRIPTION:Inauguration du MEDIACAMPUS - réservé alumni Audencia SciencesCom
END:VALARM
END:VEVENT
END:VCALENDAR