BEGIN:VCALENDAR
VERSION:2.0
X-WR-TIMEZONE:Europe/Paris
PRODID:-//Audencia//NONSGML v1.0//EN
CALSCALE:GREGORIAN
BEGIN:VEVENT
SUMMARY:POSTPONED! Audencia Alumni Around the World in San Francisco, USA
DTSTART:20200316T130000
DTEND:20200316T140000
UID:668
DTSTAMP:20260425T205842
LOCATION:TBC ASAP San Francisco USA
DESCRIPTION:The San Francisco stopover of Around the World has been postponed.\n\n\nAs soon as we know more about the new date for this event, we will share the details with you.\n\nSTD - save the date!\n\nThe San Francisco alumni chapter is planning to join the journey Around the World on Sunday 15 March. More details coming soon...\n \n\nTo discover which cities are hosting an Around the World event, click on the image below\n \n
BEGIN:VALARM
ACTION:DISPLAY
TRIGGER:-PT60M
DESCRIPTION:POSTPONED! Audencia Alumni Around the World in San Francisco, USA
END:VALARM
END:VEVENT
END:VCALENDAR