BEGIN:VCALENDAR
VERSION:2.0
X-WR-TIMEZONE:Europe/Paris
PRODID:-//Audencia//NONSGML v1.0//EN
CALSCALE:GREGORIAN
BEGIN:VEVENT
SUMMARY:POSTPONED! Audencia Alumni Around the World in Phnom Penh, Cambodia
DTSTART:20200315T180000
DTEND:20200315T200000
UID:666
DTSTAMP:20260425T205840
LOCATION:FCC 363 Preah Sisowath Quay Phnom Penh Cambodia
DESCRIPTION:The Phnom Penh stopover of Around the World has been postponed.\n\nAs soon as we know more about the new date for this event, we will share the details with you.\n\nAlumni in Phnom Penh join the journey Around the World!\n\nAlum Seang Sok (IMM 10) invites you to come and join him and fellow alumni in Cambodia on Sunday 15 March at 18:00 at FCC - 363 Preah Sisowath Quay, Phnom Penh. The venue is located near the Royal Palace and in front of the 4 faces river.\n \n\nTo discover which cities are hosting an Around the World event, click on the image below\n \n
BEGIN:VALARM
ACTION:DISPLAY
TRIGGER:-PT60M
DESCRIPTION:POSTPONED! Audencia Alumni Around the World in Phnom Penh, Cambodia
END:VALARM
END:VEVENT
END:VCALENDAR