BEGIN:VCALENDAR
VERSION:2.0
X-WR-TIMEZONE:Europe/Paris
PRODID:-//Audencia//NONSGML v1.0//EN
CALSCALE:GREGORIAN
BEGIN:VEVENT
SUMMARY:Reporté - Club Culture & Management - Réseaux sociaux : expérience artistique étendue ou culture d'influence ?
DTSTART:20200318T180000
DTEND:20200318T210000
UID:665
DTSTAMP:20260425T205735
LOCATION:Fondation d'entreprise Ricard 12 Rue Boissy d'Anglas 75008 Paris
DESCRIPTION: \n\nReporté\n\n \n\nEn 2019, sur 7,7 milliards d’humains, 67% utilisent un téléphone, 57% sont connectés sur internet, 45% utilisent les réseaux sociaux et 42% se connectent sur les réseaux sociaux via leur mobile. D’où l’importance des acteurs des Industries Culturelles et Créatives (ICCs) d’anticiper et de s’adapter à ces nouveaux comportements et usages.\n\nVia les réseaux sociaux, les créateurs de contenus peuvent proposer des expériences uniques à leurs publics et conquérir de nouvelles audiences. Comment proposer, amorcer ou prolonger, des expériences artistiques sur les réseaux sociaux ? Comment capter puis fidéliser de nouvelles communautés ? Comment se distinguer de ces concurrents ?\n\nDivers formats proposés sur les médias sociaux (stories, vidéos, podcast, etc.) permettent aux acteurs des ICCs de développer leur notoriété, de gagner en considération et de convertir en fonction de leurs objectifs (visites, abonnements ; achats). En effet, la simple diffusion de contenus, même de qualité, ne suffit pas à influencer le choix des publics. Par exemple, en France, 49 % des 18-34 ans indiquent adhérer à un service s’ils ont le sentiment d’appartenir à une communauté associée à ce contenu.\n\nMettre en place une stratégie d’amplification et d’influence semble indispensable. Parfois des intermédiaires comme des ambassadeurs, des créatifs (influenceurs) s’avèrent nécessaires. Faut-il donc adopter le marketing d’influence ? Quels bénéfices en tirer ? Comment travailler avec cet outil ? Ces nouvelles voix permettent-elles de sortir d’une culture élitiste ?\n \n\nNos intervenants spécialisés en marketing d'influence et nos créatifs répondront à vos questions :\n\n\n	\n	Florence DUPONT, Co-fondatrice de l'agence Influence4You\n	\n	\n	Jacqueline NGO MPII, Fondatrice de Little Africa\n	\n	\n	Jean POURRAT, Planneur stratégique dans l'agence Influence4You\n	\n	\n	Joël RONEZ, Fondateur de Binge Audio\n	\n	\n	Bruno SMADJA, Fondateur du Mobile Film Festival\n	\n\n\n\n> Réservez votre place \n \n\nEn amont du débat / visite guidée de l'exposition \nNina Childress : lobody Noves Me\nPlongez au cœur de la peinture de Nina Childress. Figurative, vive et fulgurante, sa pratique s'inscrit sur le temps long, à l'abri des regards, celui de l'atelier où, ces trente dernières années, elle a su tracer une ligne de démarcation, comme un halo lumineux, autour de ses tableaux figuratifs, souvent saturés de couleurs et réhaussés de fluo.\nConfirmez votre présence en envoyant un mail à clara.balayer@fondation-entreprise-ricard.com\n\n \n\nAu plaisir de vous retrouver,\nL'équipe du Club Culture & Management\n\n \n\nRappels :\n\n- les débats commencent à 19h, l'accueil se fait à partir de 18h30.\n- si vous bénéficiez d'un tarif spécial (tarif chômeur ou tarif étudiant à 15€), vous devrez nous présenter un justificatif de moins de 3 mois.\n \n\n \n\nInscrivez-vous ici\n\n
BEGIN:VALARM
ACTION:DISPLAY
TRIGGER:-PT60M
DESCRIPTION:Reporté - Club Culture & Management - Réseaux sociaux : expérience artistique étendue ou culture d'influence ?
END:VALARM
END:VEVENT
END:VCALENDAR