BEGIN:VCALENDAR
VERSION:2.0
X-WR-TIMEZONE:Europe/Paris
PRODID:-//Audencia//NONSGML v1.0//EN
CALSCALE:GREGORIAN
BEGIN:VEVENT
SUMMARY:ANNULE - IDxA Nantes "Le cerveau de demain"
DTSTART:20200428T190000
DTEND:20200428T230000
UID:664
DTSTAMP:20260425T205900
LOCATION:Salons du Nantilus 30, quai Fernand Crouan 44200 Nantes
DESCRIPTION:En raison de l'épidémie COVID 19, cette conférence est annulée. Merci de votre compréhension et à bientôt !\n\n\n\n\nCONFERENCE\n\n\n \n\nPlongez dans les mystères du cerveau avec notre speaker - à découvrir très prochainement - et des diplômés d'Audencia.\nSave the date avant de vous en dévoiler davantage...\n\nRetrouvez-vous ensuite entre Alumni lors d'un cocktail dans un lieu emblématique de Nantes avec une vue imprenable sur la Loire et le fameux Maillé-Brézé, les Salons du Nantilus.\n\n \n\n\n 
BEGIN:VALARM
ACTION:DISPLAY
TRIGGER:-PT60M
DESCRIPTION:ANNULE - IDxA Nantes "Le cerveau de demain"
END:VALARM
END:VEVENT
END:VCALENDAR