BEGIN:VCALENDAR
VERSION:2.0
X-WR-TIMEZONE:Europe/Paris
PRODID:-//Audencia//NONSGML v1.0//EN
CALSCALE:GREGORIAN
BEGIN:VEVENT
SUMMARY:Annulé - Focus Média & Digital : Les Podcasts
DTSTART:20200323T190000
DTEND:20200323T200000
UID:663
DTSTAMP:20260425T205854
LOCATION:Audencia Executive Center Paris 95 rue Falguière 75015 Paris
DESCRIPTION:Annulé\n\n\nLes podcasts sont la tendance du moment et le format audio est revenu au goût du jour.\nLes podcasts sont très appréciés des médias et des auditeurs qui peuvent écouter des contenus autrement, dans les transports, au travail ou depuis chez eux.\nComme souvent, les plateformes jouent un rôle important : elles permettent aux diffuseurs de trouver plus facilement leur public et aux auditeurs de centraliser leurs podcasts.\n \nL’évolution des médias par le digital…\n…de l’émergence de l’auto-production grâce au format du podcast à la mass-distribution via les plateformes de streaming de musique.\n \nTémoignage de :\n- Pénélope BOEUF, podcasteuse « La Toile sur Écoute » (GE 07)\n- Olivier DELTEIL, Head of Content chez startup du FT40 Believe (MBA 06)\n \n\nInscrivez-vous en cliquant sur le bouton en haut à droite.
BEGIN:VALARM
ACTION:DISPLAY
TRIGGER:-PT60M
DESCRIPTION:Annulé - Focus Média & Digital : Les Podcasts
END:VALARM
END:VEVENT
END:VCALENDAR