BEGIN:VCALENDAR
VERSION:2.0
X-WR-TIMEZONE:Europe/Paris
PRODID:-//Audencia//NONSGML v1.0//EN
CALSCALE:GREGORIAN
BEGIN:VEVENT
SUMMARY:ANNULE - Soirée Ingénieur-Manager avec Christophe Germain et Nicolas Arnaud
DTSTART:20200401T193000
DTEND:20200401T230000
UID:662
DTSTAMP:20260425T210023
LOCATION:COMET Etoile 20, rue de l'Amiral Hamelin 75116 Paris
DESCRIPTION: \nEn raison de l'épidémie COVID 19, cette soirée est annulée. Merci de votre compréhension et à bientôt !\n\n\n\nChers diplômés ingénieurs-managers,\n \nChristophe Germain, Directeur général d'Audencia, et Nicolas Arnaud, Directeur des programmes, vous donnent la parole et vous proposent de contribuer avec eux à la construction de la stratégie de l'Ecole.\n \nProfitez de cette occasion unique\nce 1er avril à partir de 19h30\npour vous impliquer dans le devenir de votre Ecole.\n\n\nEn tant que diplômé(e) d’Audencia vous avez un rôle clé à jouer dans la valorisation de votre diplôme et l’ambition de votre Ecole. Vous pourrez ainsi influencer le rang d’Audencia au sein des classements et la perception de votre diplôme par les entreprises/recruteurs.\n\nAu programme : \n• Accueil convivial \n• Moment d'échanges avec Christophe Germain et Nicolas Arnaud afin de recueillir vos idées et contributions pour la stratégie 2021-2025 de l'Ecole\n• Cocktail networking\n \nEchanges, actualités, sujets dédiés ingénieurs-managers… Nous vous avons préparé un événement sur-mesure, rien que pour vous.\n \n>> Gratuit sur inscription <<\nAttention, places limitées\n\n\n\n
BEGIN:VALARM
ACTION:DISPLAY
TRIGGER:-PT60M
DESCRIPTION:ANNULE - Soirée Ingénieur-Manager avec Christophe Germain et Nicolas Arnaud
END:VALARM
END:VEVENT
END:VCALENDAR