BEGIN:VCALENDAR
VERSION:2.0
X-WR-TIMEZONE:Europe/Paris
PRODID:-//Audencia//NONSGML v1.0//EN
CALSCALE:GREGORIAN
BEGIN:VEVENT
SUMMARY:POStPONED! Audencia Alumni Around the World in Berlin, Germany
DTSTART:20200316T190000
DTEND:20200316T213000
UID:661
DTSTAMP:20260425T210027
LOCATION:Scotch & Sofa Kollwitzstraße 18 10405 Berlin Germany
DESCRIPTION:The Berlin stopover of Around the World has been postponed.\n\n\nAs soon as we know more about the new date for this event, we will share the details with you.\n\nDrive away those Monday blues and join the Berlin stopover of Around the World!\n\nAudencia Alumni's president, Flavie Lorre (GE 98), will be in Berlin on Monday 16 March and alum Paul Lemaître (GE 15) is organising an afterwork gathering at the Scotch & Sofa (Kollwitzstraße 18, 10405 Berlin).\n\nJoin them and fellow Audencians from 19:00 to catch up with all the latest news from your favourite School!\n \n\n\nTo discover which cities are hosting an Around the World event, click on the image below\n \n\n\n\n 
BEGIN:VALARM
ACTION:DISPLAY
TRIGGER:-PT60M
DESCRIPTION:POStPONED! Audencia Alumni Around the World in Berlin, Germany
END:VALARM
END:VEVENT
END:VCALENDAR