BEGIN:VCALENDAR
VERSION:2.0
X-WR-TIMEZONE:Europe/Paris
PRODID:-//Audencia//NONSGML v1.0//EN
CALSCALE:GREGORIAN
BEGIN:VEVENT
SUMMARY:POSTPONED! Audencia Alumni Around the World in Copenhagen, Denmark
DTSTART:20200319T190000
DTEND:20200319T220000
UID:660
DTSTAMP:20260425T205724
LOCATION:Trattoria FIAT Kongens Nytorv Copenhagen Denmark
DESCRIPTION:The Copenhagen stopover of Around the World has been postponed.\n\n\nAs soon as we know more about the new date for this event, we will share the details with you.\n\nIf you are in Copenhagen on 19 March, come and join fellow Audencians at 19:00 for an informal dinner at the Trattoria Fiat (Trattoria FIAT, Kongens Nytorv, Copenhagen).\n \n\nTo discover which cities are hosting an Around the World event, click on the image below\n \n
BEGIN:VALARM
ACTION:DISPLAY
TRIGGER:-PT60M
DESCRIPTION:POSTPONED! Audencia Alumni Around the World in Copenhagen, Denmark
END:VALARM
END:VEVENT
END:VCALENDAR