BEGIN:VCALENDAR
VERSION:2.0
X-WR-TIMEZONE:Europe/Paris
PRODID:-//Audencia//NONSGML v1.0//EN
CALSCALE:GREGORIAN
BEGIN:VEVENT
SUMMARY:Intercultural Festival in Nantes: Audencia Atlantic Campus
DTSTART:20200305T120000
DTEND:20200305T190000
UID:659
DTSTAMP:20260425T205956
LOCATION:The Forum Audencia Atlantic Campus 8 Route de la Jonelière  Nantes
DESCRIPTION:Join the celebrations and fun at ICF, Audencia's Intercultural Festival, starting at midday (12:00pm) on Thursday 5 March.\n\nAudencia Alumni are proud to support this event with its intercultural photo booth.\n\nCheck out this page 2-3 days after the event to collect your photos from the photo gallery...\n\n \n
BEGIN:VALARM
ACTION:DISPLAY
TRIGGER:-PT60M
DESCRIPTION:Intercultural Festival in Nantes: Audencia Atlantic Campus
END:VALARM
END:VEVENT
END:VCALENDAR