BEGIN:VCALENDAR
VERSION:2.0
X-WR-TIMEZONE:Europe/Paris
PRODID:-//Audencia//NONSGML v1.0//EN
CALSCALE:GREGORIAN
BEGIN:VEVENT
SUMMARY:POSTPONED! Audencia Alumni Around the World in Auckland, New Zealand
DTSTART:20200319T180000
DTEND:20200319T200000
UID:657
DTSTAMP:20260425T205722
LOCATION:The Lumsden 444-448 Kyber Pass Road Newmarket Auckland New Zealand
DESCRIPTION:The Auckland stopover of Around the World has been postponed.\n\nAs soon as we know more about the new date for this event, we will share the details with you.\n\nAudencians in Auckland will be gathering on Thursday 19 March from 18:00 at the Lumsden, 444-448 Kyber Pass Road, Newmarket, Auckland.\n\n\nNeddless to say that this small -but perfect- group wins first prize for being the furthest gathering from Nantes.\n\nTo discover which cities are hosting an Around the World event, click on the image below\n \n
BEGIN:VALARM
ACTION:DISPLAY
TRIGGER:-PT60M
DESCRIPTION:POSTPONED! Audencia Alumni Around the World in Auckland, New Zealand
END:VALARM
END:VEVENT
END:VCALENDAR