BEGIN:VCALENDAR
VERSION:2.0
X-WR-TIMEZONE:Europe/Paris
PRODID:-//Audencia//NONSGML v1.0//EN
CALSCALE:GREGORIAN
BEGIN:VEVENT
SUMMARY:POSTPONED! Audencia Alumni Around the World in Barcelona, Spain
DTSTART:20200318T200000
DTEND:20200318T220000
UID:656
DTSTAMP:20260425T223737
LOCATION:Sugar Bar Carrer d'en Rauric, 21 Barcelona Spain
DESCRIPTION:The Barcelona stopover of Around the World has been postponed.\n\n\nAs soon as we know more about the new date for this event, we will share the details with you.\n\nFor the first time, Barcelona will host a stopover for Around the World.\n\nJoin alumni and staff (Nushad Merchant, Alumni Relations Manager) for a relaxed gathering.\n\nPut the date in your diary: Wednesday 18 March\nKeep an eye on your watch: from 20:00\nThen head on down to: the Sugar Bar, in the Gotico (Carrer d'en Rauric, 21), Barcelona\n\n\nTo discover which cities are hosting an Around the World event, click on the image below\n \n
BEGIN:VALARM
ACTION:DISPLAY
TRIGGER:-PT60M
DESCRIPTION:POSTPONED! Audencia Alumni Around the World in Barcelona, Spain
END:VALARM
END:VEVENT
END:VCALENDAR