BEGIN:VCALENDAR
VERSION:2.0
X-WR-TIMEZONE:Europe/Paris
PRODID:-//Audencia//NONSGML v1.0//EN
CALSCALE:GREGORIAN
BEGIN:VEVENT
SUMMARY:POSTPONED! Audencia Alumni Around the World in Nairobi, Kenya
DTSTART:20200318T180000
DTEND:20200318T200000
UID:655
DTSTAMP:20260425T205845
LOCATION:Two Grapes Wine & Friends George Padmore Road Nairobi Kenya
DESCRIPTION:The Nairobi stopover of Around the World has been postponed.\n\nAs soon as we know more about the new date for this event, we will share the details with you.\n\nAudencia Around the World heads to Kenya on Wednesday 18 March.\n\nCome and meet alumni and friends at the aptly named "Two Grapes Wine And Friends", a new, intimate garden restaurant that's owned by two amazing women from Belgium. Their mission is to create a fun and engaging space for Kenyans to connect with Euro-Franco and Franco-African communities.\n\nThey also have great live entertainment!\n \n\nTo discover which cities are hosting an Around the World event, click on the image below\n \n
BEGIN:VALARM
ACTION:DISPLAY
TRIGGER:-PT60M
DESCRIPTION:POSTPONED! Audencia Alumni Around the World in Nairobi, Kenya
END:VALARM
END:VEVENT
END:VCALENDAR