BEGIN:VCALENDAR
VERSION:2.0
X-WR-TIMEZONE:Europe/Paris
PRODID:-//Audencia//NONSGML v1.0//EN
CALSCALE:GREGORIAN
BEGIN:VEVENT
SUMMARY:Club Audencia Alumni Rugby - Dîner avec l'association LARGE
DTSTART:20200324T193000
DTEND:20200324T220000
UID:653
DTSTAMP:20260425T223651
LOCATION:Les Foudres de Bacchus 22 avenue Raspail 94250 GENTILLY
DESCRIPTION:Notre prochain dîner au LARGE (Ligue des Anciens Rugbymen des Grandes Ecoles) se tiendra le mardi 24 mars 2020 aux Caves Fillot jouxtant le restaurant « les Foudres de Bacchus », 22 av Raspail – 94250 Gentilly.\n\nNous recevrons Didier Lacroix :\nRedoutable et redouté troisième ligne, 6 fois champion de France entre 1993 et 2001,Champion d'Europe en 1996, il met fin à sa carrière sportive en 2002.\nDiplômé de l’ESC Toulouse, chef d'entreprise, il a succédé à René Bouscatel, comme président du Stade Toulousain..\nEn 2 ans il remet à flots les finances du club, et le Stade Toulousain devient Champion de France en 2019 … pour la vingtième fois !\n\nSi vous êtes intéressé(e) pour y participer, n'hésitez pas à contacter Niels Gomont (GE 15) : niels.gomont@gmail.com
BEGIN:VALARM
ACTION:DISPLAY
TRIGGER:-PT60M
DESCRIPTION:Club Audencia Alumni Rugby - Dîner avec l'association LARGE
END:VALARM
END:VEVENT
END:VCALENDAR