BEGIN:VCALENDAR
VERSION:2.0
X-WR-TIMEZONE:Europe/Paris
PRODID:-//Audencia//NONSGML v1.0//EN
CALSCALE:GREGORIAN
BEGIN:VEVENT
SUMMARY:Reporté - Club Activités Culturelles - Visite du quartier du Marais
DTSTART:20200321T143000
DTEND:20200321T160000
UID:652
DTSTAMP:20260425T223705
LOCATION:TBC Le Marais
DESCRIPTION:Reporté\n\n \n\nLe Club Activités Culturelles vous invite à découvrir le beau quartier du Marais avec une visite guidée.\n\nQuelques précisions :\n- Les places sont limitées\n- Vous pouvez vous inscrire avec un/e accompagnateur/rice\n\nQuestions ? : nushad.merchant@audencia.com  
BEGIN:VALARM
ACTION:DISPLAY
TRIGGER:-PT60M
DESCRIPTION:Reporté - Club Activités Culturelles - Visite du quartier du Marais
END:VALARM
END:VEVENT
END:VCALENDAR