BEGIN:VCALENDAR
VERSION:2.0
X-WR-TIMEZONE:Europe/Paris
PRODID:-//Audencia//NONSGML v1.0//EN
CALSCALE:GREGORIAN
BEGIN:VEVENT
SUMMARY:Reporté - Table ronde - La culture entrepreneuriale et familiale : un levier pour la transmission ?
DTSTART:20200331T190000
DTEND:20200331T203000
UID:651
DTSTAMP:20260425T205950
LOCATION:EY France Tour First 92037 Paris La Défense
DESCRIPTION:REPORTE\n\n \n\nLe 31 mars, Audencia, FBN France et EY France sont heureux de vous convier à la table ronde\n \n\n \n\nLa culture entrepreneuriale et familiale :\nun levier pour la transmission ?\n\n \n\nLa Chaire Entrepreneuriat Familial et Société d’Audencia, en partenariat avec le FBN France, a lancé l'Observatoire National de l’Entrepreneuriat Familial français*. Son objectif ? \n \n- Mieux comprendre les leviers entrepreneuriaux des entreprises familiales qui savent conjuguer, sur plusieurs générations, pérennité et compétitivité. \n \n- Comparer l’évolution des comportements entrepreneuriaux dans les entreprises familiales et non-familiales, en mesurant notamment la performance de l’entreprise et la qualité de sa culture entrepreneuriale. \n \n \nMiruna Radu-Lefebvre** présentera les résultats de cette première édition après une prise de parole de Grégoire Gonnord, président de Fleury Michon et ambassadeur de l'Observatoire. Place ensuite à la table ronde, animée par Stéphane Courgeon, où nos invités commenteront ces résultats tout en nous faisant part de leurs expériences.\n \n* mis en oeuvre par OpinionWay\n** Fondatrice et titulaire de la Chaire Entrepreneuriat Familial & Société d'Audencia\n \nEn présence de :\n\n\n	\n	Johan Gaulin | Responsable Marché Entreprises Familiales | EY France\n	\n	\n	Grégoire Gonnord | Ambassadeur de l'Observatoire | 4ème génération | Fleury Michon\n	\n	\n	Philippe Grodner | Président | FBN France\n	\n	\n	Michel Haag | 7ème génération | Brasserie Meteor\n	\n	\n	Clémence Mellerio-Jacques | 15ème génération | Maison Mellerio\n	\n	\n	Olivier Mellerio | 14ème génération | Maison Mellerio\n	\n	\n	Laurent Métral | Président | Audencia\n	\n	\n	Jean-Michel Mousset | 2ème génération | Groupe Mousset\n	\n	\n	Miruna Radu-Lefebre | Titulaire Chaire Entrepreneuriat Familial & Société | Audencia\n	\n\n\nInscrivez-vous ici\n\n
BEGIN:VALARM
ACTION:DISPLAY
TRIGGER:-PT60M
DESCRIPTION:Reporté - Table ronde - La culture entrepreneuriale et familiale : un levier pour la transmission ?
END:VALARM
END:VEVENT
END:VCALENDAR