BEGIN:VCALENDAR
VERSION:2.0
X-WR-TIMEZONE:Europe/Paris
PRODID:-//Audencia//NONSGML v1.0//EN
CALSCALE:GREGORIAN
BEGIN:VEVENT
SUMMARY:REPORTE - Assemblée Générale de l'association Audencia Alumni - Nantes
DTSTART:20200323T200000
DTEND:20200323T220000
UID:650
DTSTAMP:20260425T205733
LOCATION:Mediacampus  41 Boulevard de la Prairie au Duc 44200 NANTES
DESCRIPTION:Chers Etudiants et Diplômés, \n\nLe Conseil d'administration a le plaisir de vous convier à son Assemblée Générale annuelle, qui aura lieu à Paris (campus Audencia, Rue Falguière). \n\nL'AG sera retransmise en direct. Vous pourrez donc suivre l'AG depuis le Médiacampus à Nantes, permettant à ceux qui ne pourraient pas se déplacer à Paris de poser leurs questions et participer aux votes. Si vous souhaitez participer depuis Nantes, inscrivez-vous ici ! Si vous souhaitez vous inscrire pour la salle Paris, rendez-vous dans l'événement intitulé "Assemblée Générale de l'association Audencia Alumni - Paris".\n\nAu programme : \n- 20h00 :\n\n	Début de l'assemblée générale\n	Présentation de Matthieu Bonnamy, nouveau responsable Audencia Alumni Center (Bachelor 08)\n	Présentation de l’enquête de satisfaction\n	Rapport moral de l’association\n	Rapport financier de l’association\n	Election des nouveaux membres du Conseil d’Administration\n	Questions diverses\n\n \n- 22h00 : Clôture\n\nL'AG est ouverte à tous les diplômés d'Audencia mais seuls les adhérents (à jour de cotisation) pourront prendre part au vote.\n\nLes documents pour les pouvoirs et les candidatures sont accessibles dans l'espace documents de l'événement. Si vous souhaitez de plus amples renseignements, n'hésitez pas à prendre contact avec nous : audenciaalumni@audencia.com.\n\nFlavie LORRE (GE 98)\nPrésidente de l'association Audencia Alumni
BEGIN:VALARM
ACTION:DISPLAY
TRIGGER:-PT60M
DESCRIPTION:REPORTE - Assemblée Générale de l'association Audencia Alumni - Nantes
END:VALARM
END:VEVENT
END:VCALENDAR