BEGIN:VCALENDAR
VERSION:2.0
X-WR-TIMEZONE:Europe/Paris
PRODID:-//Audencia//NONSGML v1.0//EN
CALSCALE:GREGORIAN
BEGIN:VEVENT
SUMMARY:Atelier Prospecter les entreprises avec Linked In - Annulé
DTSTART:20170711T193000
DTEND:20170711T223000
UID:65
DTSTAMP:20260425T205718
LOCATION:Campus Audencia Falguière - 95 rue Falguière Paris XV
DESCRIPTION:Bonjour,\n\n\nVous êtes en charge du développement commercial dans votre entreprise, dirigeant, ou vous intéressez tout simplement au développement commercial, alors n'hésitez plus, cet atelier est fait pour vous.\n\nRdv le lundi 11 juillet à 19h30 sur le campus Paris - 95 rue falguière (métro Falguière, Pasteur ou Volontaires) Paris XVème - pour un atelier intéractif d'1h30 sur comment développer et prospecter son réseau d'affaires à l'aide de Linked In.\n\nManuel MARIE - diplômé Grande Ecole 2003 - Dirigeant de Doobiz et expert en développement des ventes animera cet atelier.\n\nContenu de l'atelier :\n\n	Qu’entend-on par Social Selling ?\n	Pourquoi LinkedIn a été le premier à se positionner sur le Social Selling ?\n	Quels sont les 4 piliers du Social Selling ?\n	Quels exemples de réussites en Social Selling ?\n\nN'hésitez pas à venir avec votre pc portable, tablette ou smartphone pour une application en direct.\n\nAu plaisir de vous retrouver le 11 juillet
BEGIN:VALARM
ACTION:DISPLAY
TRIGGER:-PT60M
DESCRIPTION:Atelier Prospecter les entreprises avec Linked In - Annulé
END:VALARM
END:VEVENT
END:VCALENDAR