BEGIN:VCALENDAR
VERSION:2.0
X-WR-TIMEZONE:Europe/Paris
PRODID:-//Audencia//NONSGML v1.0//EN
CALSCALE:GREGORIAN
BEGIN:VEVENT
SUMMARY:Annulée - Assemblée Générale de l'association Audencia Alumni - Paris
DTSTART:20200323T200000
DTEND:20200323T220000
UID:649
DTSTAMP:20260425T205857
LOCATION:Audencia Executive Center Paris 95 rue Falguière 75015 Paris
DESCRIPTION:Annulé\n\nChers Etudiants et Diplômés, \n\nL'équipe de l'association Audencia Alumni a le plaisir de vous convier à son Assemblée Générale annuelle, qui aura lieu à Paris (campus Audencia, 95 Rue Falguière, Paris 15e) le lundi 23 mars 2020. \n\nL'AG sera retransmise en direct dans une salle nantaise, permettant à ceux qui ne pourraient pas se déplacer à Paris de poser leurs questions et participer aux votes. Si vous souhaitez vous participer depuis Nantes, merci de vous inscrire dans l'événement "Assemblée Générale Assemblée Générale de l'association Audencia Alumni - Nantes" pour faciliter l'organisation. \n \nAu programme : \n- 20h00 :\n\n	Début de l'assemblée générale\n	Présentation de Matthieu Bonnamy, nouveau responsable Audencia Alumni Center (Bachelor 08)\n	Présentation de l’enquête de satisfaction\n	Rapport moral de l’association\n	Rapport financier de l’association\n	Election des nouveaux membres du Conseil d’Administration\n	Questions diverses\n\n \n- 22h00 : Clôture\n\nL'AG est ouverte à tous les diplômés d'Audencia mais seuls les adhérents (à jour de cotisation) pourront prendre part au vote.\n\nLes documents pour les pouvoirs et les candidatures sont accessibles dans l'espace documents de l'événement. Si vous souhaitez de plus amples renseignements, n'hésitez pas à prendre contact avec nous : audenciaalumni@audencia.com.\n\nFlavie LORRE (GE 98)\nPrésidente de l'association Audencia Alumni
BEGIN:VALARM
ACTION:DISPLAY
TRIGGER:-PT60M
DESCRIPTION:Annulée - Assemblée Générale de l'association Audencia Alumni - Paris
END:VALARM
END:VEVENT
END:VCALENDAR