BEGIN:VCALENDAR
VERSION:2.0
X-WR-TIMEZONE:Europe/Paris
PRODID:-//Audencia//NONSGML v1.0//EN
CALSCALE:GREGORIAN
BEGIN:VEVENT
SUMMARY:Audencia Alumni Around the World in Rio de Janeiro, Brazil
DTSTART:20200314T103000
DTEND:20200314T140000
UID:648
DTSTAMP:20260425T205857
LOCATION:1/ R. Jardim Botânico, 1008 - Jardim Botânico, Rio de Janeiro - RJ, 22460-030 2/ Clube Naval Piraquê, Av. Borges de Medeiros, 2364 - Lagoa, Rio de Janeiro - RJ, 22470-003
DESCRIPTION:Alumni in Rio de Janeiro will connect for their inaugural chapter gathering.\n\nAmbassador Marcio has planned an outdoor activity followed by an indoor one.\n\nJoin him and fellow alumni at 10:30 on Saturday 14 March at The Rio Botanic Garden to meet and get to know one another. Then have a relaxing lunch afterwards at the Clube Naval Piraquê.\n \n\nTo discover which cities are hosting an Around the World event, click on the image below\n \n
BEGIN:VALARM
ACTION:DISPLAY
TRIGGER:-PT60M
DESCRIPTION:Audencia Alumni Around the World in Rio de Janeiro, Brazil
END:VALARM
END:VEVENT
END:VCALENDAR