BEGIN:VCALENDAR
VERSION:2.0
X-WR-TIMEZONE:Europe/Paris
PRODID:-//Audencia//NONSGML v1.0//EN
CALSCALE:GREGORIAN
BEGIN:VEVENT
SUMMARY:Food and Agribusiness gathering in Paris
DTSTART:20200221T180000
DTEND:20200221T210000
UID:647
DTSTAMP:20260425T205909
LOCATION:Bateau-mouche Pont de l'Alma Paris
DESCRIPTION:Students from Audencia's MSc. Food & Agribusiness programme are in Paris with professor Corinne Lamour, director of the programme. They would be delighted to connect with likeminded alumni from this amazing course.\n\nCome and join them!\n \nOn Friday 21 February\n\n18:00 for a trip on a bateau mouche at the Pont de l'Alma\n20:00 for dinner at the Vapiano des Champs Elysées, 36 rue Marbeuf\n\nOn Saturday 22 February for a visit to the Paris Agricultural Show\n 
BEGIN:VALARM
ACTION:DISPLAY
TRIGGER:-PT60M
DESCRIPTION:Food and Agribusiness gathering in Paris
END:VALARM
END:VEVENT
END:VCALENDAR