BEGIN:VCALENDAR
VERSION:2.0
X-WR-TIMEZONE:Europe/Paris
PRODID:-//Audencia//NONSGML v1.0//EN
CALSCALE:GREGORIAN
BEGIN:VEVENT
SUMMARY:POSTPONED! Audencia Alumni Around the World in Madrid, Spain
DTSTART:20200319T190000
DTEND:20200319T210000
UID:645
DTSTAMP:20260425T205906
LOCATION:Club Argo Plaza Santa Ana Madrid Spain
DESCRIPTION:The Madrid stopover of Around the World has been postponed.\n\n\nAs soon as we know more about the new date for this event, we will share the details with you.\n\nOn the occasion of the Madrid stopover during "Around the World", the alumni chapter is proud to host an informal networking evening that is open to alumni, interns and friends.\n\nMake the connections on Thursday 19 March from 19:00 at Club Argo, Plaza Santa Ana, Madrid.\n \n\nTo discover which other cities are hosting an Around the World event, click on the image below\n \n
BEGIN:VALARM
ACTION:DISPLAY
TRIGGER:-PT60M
DESCRIPTION:POSTPONED! Audencia Alumni Around the World in Madrid, Spain
END:VALARM
END:VEVENT
END:VCALENDAR