BEGIN:VCALENDAR
VERSION:2.0
X-WR-TIMEZONE:Europe/Paris
PRODID:-//Audencia//NONSGML v1.0//EN
CALSCALE:GREGORIAN
BEGIN:VEVENT
SUMMARY:POSTPONED! Audencia Alumni Around the World in Tel-Aviv, Israel
DTSTART:20200320T190000
DTEND:20200320T210000
UID:644
DTSTAMP:20260425T205732
LOCATION:TBC ASAP Tel-Aviv Israel
DESCRIPTION:The Tel-Aviv stopover of Around the World has been postponed.\n \n\nAs soon as we know more about the new date for this event, we will share the details with you.\n\nOn the occasion of their learning expedition to Tel-Aviv, the Executive MBA class of 2020 is planning a social evening with alumni and friends.\n\nCome and join them from 19:00 on Friday 20 March to make some new connections.\n\nFull details of the venue and address coming soon!\n \n\nTo discover which cities are hosting an Around the World event, click on the image below\n \n
BEGIN:VALARM
ACTION:DISPLAY
TRIGGER:-PT60M
DESCRIPTION:POSTPONED! Audencia Alumni Around the World in Tel-Aviv, Israel
END:VALARM
END:VEVENT
END:VCALENDAR