BEGIN:VCALENDAR
VERSION:2.0
X-WR-TIMEZONE:Europe/Paris
PRODID:-//Audencia//NONSGML v1.0//EN
CALSCALE:GREGORIAN
BEGIN:VEVENT
SUMMARY:POSTPONED! Audencia Alumni Around the World in Ho Chi Minh City, Vietnam
DTSTART:20200319T183000
DTEND:20200319T203000
UID:642
DTSTAMP:20260425T205843
LOCATION:TBC ASAP Ho Chi Minh City Vietnam
DESCRIPTION:The Ho Chi Minh City stopover of Around the World has been postponed.\n\nAs soon as we know more about the new date for this event, we will share the details with you.\n\nThe Ho Chi Minh alumni community is looking forward to joining the journey Around the World.\n\nCome and join them on Thursday 19 March for refreshments and a little stargazing during what promises to be an enjoyable moment.\n\nThe venue and address will be announced very shortly!\n \n\nTo discover which cities are hosting an Around the World event, click on the image below\n \n
BEGIN:VALARM
ACTION:DISPLAY
TRIGGER:-PT60M
DESCRIPTION:POSTPONED! Audencia Alumni Around the World in Ho Chi Minh City, Vietnam
END:VALARM
END:VEVENT
END:VCALENDAR