BEGIN:VCALENDAR
VERSION:2.0
X-WR-TIMEZONE:Europe/Paris
PRODID:-//Audencia//NONSGML v1.0//EN
CALSCALE:GREGORIAN
BEGIN:VEVENT
SUMMARY:POSTPONED! Audencia Alumni Around the World in Manila, Philippines
DTSTART:20200319T180000
DTEND:20200319T210000
UID:641
DTSTAMP:20260425T223838
LOCATION:Grand Hyatt Manila 8th Avenue corner 35th St Taguig 1634 Metro Manila Philippines
DESCRIPTION:The Manila stopover of Around the World has been postponed.\n\nAs soon as we know more about the new date for this event, we will share the details with you.\n\nThey chose it for the sumptious views and are assured of being in fine company.\n\nCome and join alumni and friends for the Manila stopover of Around the World which will take place on Thursday 19 March at the Grand Hyatt Hotel from 18:00.\n \n\nTo discover which cities are hosting an Around the World event, click on the image below\n \n
BEGIN:VALARM
ACTION:DISPLAY
TRIGGER:-PT60M
DESCRIPTION:POSTPONED! Audencia Alumni Around the World in Manila, Philippines
END:VALARM
END:VEVENT
END:VCALENDAR