BEGIN:VCALENDAR
VERSION:2.0
X-WR-TIMEZONE:Europe/Paris
PRODID:-//Audencia//NONSGML v1.0//EN
CALSCALE:GREGORIAN
BEGIN:VEVENT
SUMMARY:2017 France Alumni start-up challenge for Chinese alumni
DTSTART:20170922T120000
DTEND:20170922T123000
UID:64
DTSTAMP:20260425T205703
LOCATION:Online
DESCRIPTION:Launched by the French Embassy in China in 2014, the France Alumni Entrepreneurship prize is the first national competition for innovative start-ups created by Chinese alumni who graduated in France. The winner of the 2017 prize will receive a grant of 50,000 RMB as well as numerous prizes offered by partners of this initiative (equipment, services, advice, etc.).\n\nFor more information about the prize, calendar and eligibility criteria: http://pefa.francealumni.cn/\n \nThe deadline for applications is 22nd September
BEGIN:VALARM
ACTION:DISPLAY
TRIGGER:-PT60M
DESCRIPTION:2017 France Alumni start-up challenge for Chinese alumni
END:VALARM
END:VEVENT
END:VCALENDAR