BEGIN:VCALENDAR
VERSION:2.0
X-WR-TIMEZONE:Europe/Paris
PRODID:-//Audencia//NONSGML v1.0//EN
CALSCALE:GREGORIAN
BEGIN:VEVENT
SUMMARY:POSTPONED! Audencia Alumni Around the World in Baku, Azerbaijan
DTSTART:20200314T170000
DTEND:20200314T190000
UID:639
DTSTAMP:20260425T211354
LOCATION:Paris Bistro Café Zarifa Aliyeva St Baku Azerbaijan
DESCRIPTION:The Baku stopover of Around the World has been postponed.\n\nAs soon as we know more about the new date for this event, we will share the details with you.\n\nAudencia alumni and students in Baku are joining the celebrations in honour of the School's 120th anniversary.\n\nCome and join them for a little taste of France from 17:00 on Saturday 14 March at:\n \nParis Bistro Café\nZarifa Aliyeva St\nBaku, Azerbaijan\n \n\n\nTo discover which cities are hosting an Around the World event, click on the image below\n \n
BEGIN:VALARM
ACTION:DISPLAY
TRIGGER:-PT60M
DESCRIPTION:POSTPONED! Audencia Alumni Around the World in Baku, Azerbaijan
END:VALARM
END:VEVENT
END:VCALENDAR