BEGIN:VCALENDAR
VERSION:2.0
X-WR-TIMEZONE:Europe/Paris
PRODID:-//Audencia//NONSGML v1.0//EN
CALSCALE:GREGORIAN
BEGIN:VEVENT
SUMMARY:CANCELLED! Audencia Alumni Around the World in Dublin, Ireland
DTSTART:20200318T190000
DTEND:20200318T220000
UID:638
DTSTAMP:20260425T210025
LOCATION:TBC ASAP Dublin Ireland
DESCRIPTION:The Dublin stopover of Around the World has been cancelled.\n\nAs soon as we know more about the new date for this event, we will share the details with you.\n\nIn Dublin’s fair city, alumni and friends are preparing to celebrate Audencia's 120th anniversary.\n\nOn 18 March, the day after Saint Patrick's Day, come and join us from 19:00 for an enjoyable afterwork gathering at a venue that will be announced as soon as possible!\n \n \nTo discover which cities are hosting an Around the World event, click on the image below\n \n
BEGIN:VALARM
ACTION:DISPLAY
TRIGGER:-PT60M
DESCRIPTION:CANCELLED! Audencia Alumni Around the World in Dublin, Ireland
END:VALARM
END:VEVENT
END:VCALENDAR