BEGIN:VCALENDAR
VERSION:2.0
X-WR-TIMEZONE:Europe/Paris
PRODID:-//Audencia//NONSGML v1.0//EN
CALSCALE:GREGORIAN
BEGIN:VEVENT
SUMMARY:POSTPONED! Audencia Alumni Around the World in Seoul, Korea
DTSTART:20200319T193000
DTEND:20200319T220000
UID:636
DTSTAMP:20260425T210006
LOCATION:VINEWORKS KOREA  4-5F, 315-7 Sangsu Dong Mapo-gu Seoul
DESCRIPTION:The Seoul stopover of Around the World has been postponed.\n\n As soon as we know more about the new date for this event, we will share the details with you.\n\n \n\nDear Audencians in Korea!\n\nHappy to share the 4th Audencia Alumni to celebrate Audencia's 120th Anniversary ? This time, we will have Audencian's own private Alumni in the private wine-tasting hall!\n\nDate: Thursday 19 March\nTime: 19:30\nVenue: VINEWORKS KOREA (4-5F, 315-7, Sangsu Dong, Mapo-gu, Seoul)\nLink: www.vineworkskorea.com\nTel :+82 70-4206-9993\n\n\n \n\nTo discover which cities are hosting an Around the World event, click on the image below\n \n\n\n 
BEGIN:VALARM
ACTION:DISPLAY
TRIGGER:-PT60M
DESCRIPTION:POSTPONED! Audencia Alumni Around the World in Seoul, Korea
END:VALARM
END:VEVENT
END:VCALENDAR