BEGIN:VCALENDAR
VERSION:2.0
X-WR-TIMEZONE:Europe/Paris
PRODID:-//Audencia//NONSGML v1.0//EN
CALSCALE:GREGORIAN
BEGIN:VEVENT
SUMMARY:POSTPONED! Audencia Alumni Around the World in Mexico City, Mexico
DTSTART:20200318T193000
DTEND:20200318T230000
UID:633
DTSTAMP:20260425T205905
LOCATION:Terraza Catedral República de Guatemala 4 Centro Histórico de la Cdad. de México Centro, Cuauhtémoc 06000 Ciudad de México, CDMX Mexico
DESCRIPTION:The Mexico City stopover of Around the World has been postponed.\n\nAs soon as we know more about the new date for this event, we will share the details with you.\n\n#Audencia120\n\nCome and celebrate Audencia's 120th anniversary in style in Mexico City by joining alumni and friends on 18 March for an afterwork gathering from 19:30 at the Terraza Catedral, República de Guatemala 4, Centro Histórico de la Cdad. de México.\n\n\nTo discover which cities are hosting an Around the World event, click on the image below\n \n
BEGIN:VALARM
ACTION:DISPLAY
TRIGGER:-PT60M
DESCRIPTION:POSTPONED! Audencia Alumni Around the World in Mexico City, Mexico
END:VALARM
END:VEVENT
END:VCALENDAR