BEGIN:VCALENDAR
VERSION:2.0
X-WR-TIMEZONE:Europe/Paris
PRODID:-//Audencia//NONSGML v1.0//EN
CALSCALE:GREGORIAN
BEGIN:VEVENT
SUMMARY:POSTPONED! Audencia Alumni Around the World in Tokyo, Japan
DTSTART:20200314T190000
DTEND:20200314T210000
UID:631
DTSTAMP:20260425T210053
LOCATION:3 Chome-2 Kanda Nishikichō Chiyoda-ku Tōkyō-to 101-0054 Japan
DESCRIPTION:The Tokyo stopover of Around the World has been postponed.\n\nAs soon as we know more about the new date for this event, we will share the details with you.\n\nAMA: Everything and Anything you wanted to know but where afraid to ask!\n\nAlumni in Japan are gathering for a relaxed afterwork on 14 March.\n\nWe are seizing this opportunity to interact with students who would be interested in knowing more about Japan - its culture, its work ethic, building friendships, integrating, and any other question (about Japan, of course). We plan on enjoying sushis and Japanese specialities as well as craft beers. There will be an after AMA for willing souls.\n\n \n\n	If you are in Tokyo: join us on location (3 Chome-2 Kanda Nishikichō, Chiyoda-ku, Tōkyō-to 101-0054)\n	If you are anywhere else in the world: tune in [link coming soon] to ask your question\n\n\n\n\n \n\nDid you guess right?\nAMA stands for Ask Me Anything.\n \n\n\nTo discover which cities are hosting an Around the World event, click on the image below\n \n\n
BEGIN:VALARM
ACTION:DISPLAY
TRIGGER:-PT60M
DESCRIPTION:POSTPONED! Audencia Alumni Around the World in Tokyo, Japan
END:VALARM
END:VEVENT
END:VCALENDAR