BEGIN:VCALENDAR
VERSION:2.0
X-WR-TIMEZONE:Europe/Paris
PRODID:-//Audencia//NONSGML v1.0//EN
CALSCALE:GREGORIAN
BEGIN:VEVENT
SUMMARY:IFCCI Bangalore - business breakfast
DTSTART:20170626T093000
DTEND:20170626T113000
UID:63
DTSTAMP:20260425T223839
LOCATION:
DESCRIPTION:The Indo-French Chamber of Commerce in Bangalore is inviting you to a breakfast talk with Dr. Kiran Mazumdar-Shaw on Monday 26th June from 09.30 to 11.30 at The Gateway Hotel, Bangalore.\n \nPlease RSVP to priynak.prakash@ifcci.org.in to confirm your participation.\n\nMembers Fee – 600 INR Including taxes\nNon-Members Fee – 800 INR including taxes
BEGIN:VALARM
ACTION:DISPLAY
TRIGGER:-PT60M
DESCRIPTION:IFCCI Bangalore - business breakfast
END:VALARM
END:VEVENT
END:VCALENDAR