BEGIN:VCALENDAR
VERSION:2.0
X-WR-TIMEZONE:Europe/Paris
PRODID:-//Audencia//NONSGML v1.0//EN
CALSCALE:GREGORIAN
BEGIN:VEVENT
SUMMARY:REPORTE - Dîner "A chaque plat ses voisins/ Switching neighbour"
DTSTART:20200326T193000
DTEND:20200326T223000
UID:629
DTSTAMP:20260425T210010
LOCATION:Le Maria Place Graslin Nantes
DESCRIPTION: \nEn raison de l'épidémie COVID 19, cette soirée est reportée. Merci de votre compréhension et à bientôt !\n\n\n[English below] \n\nVenez (re)découvrir le réseau des Alumni nantais lors d'un dîner au restaurant ! Seuls 25 chanceux pourront y participer, réservez-vite ! \n\nL'objectif\nCréer des contacts ou revoir les membres de la communauté Audencia Alumni Nantes lors d'un évènement propice à l'échange, et dans l'ambiance conviviale constatée lors de chaque évènement !\n\nLe concept\nEntre chaque plat, nous changerons de places pour échanger avec tous les alumni présents. \n\nLe repas\nUne formule complète est proposée pour 25€ : \nApéritif : Spritz, bière pression ou soft\nPlat : Poisson du marché, risotto / ou Suprême de poulet, farci aux champignons, écrasé de pommes de terre/ ou Pizza 5 fromages (végétarien) \nDessert : Mousse au chocolat/ ou Crème brulée\n+ 1 verre de vin par personne (Valencay blanc ou Côtes de bourg rouge) \n \nPour prévoir les quantités au plus juste et éviter le gaspillage,\nmerci de choisir vos plats dès que vous serez inscrits grâce à ce lien en cliquant ici. \nAussi, les inscriptions seront closes le dimanche 22 mars.\n\nLe lieu\nRendez-vous à 19h30 au Maria, Place Graslin \nAccès en transports en commun : Commerce / Médiathèque \nParkings à proximité : Graslin, Médiathèque, Gloriette\n\nContact : Alexandra FLEURY 06 78 09 40 28\n\n \n\n\n\n- - - - - - - - - - - - - - - - - \n\nCome to discover or meet again Nantes Audencia Alumni in a restaurant.\nOnly 25 (lucky) people will be able to attend, book it quick !\n\nWhy ?\nCreate contacts or see again members of Nantes network during a dinner to foster conversation, in the cheerful atmosphere we are used to in Chapter events.\n\nWhat ?\nIn between each dish, we will switch seats to change neighbours and ensure we will meet all the Alumni on site.\n\nThe meal ?\nA 25€ all inclusive deal will be offered : \nAppetizer : Spritz, beer or soft\nMain course : Fresh fish & risotto/ or Chicken stuffed with mushroom & mash potatoes  / or 5 cheese Pizza (veggie) \nDessert : Chocolate mousse/  or Crème brûlée\n+ 1 wine glass (Valencay blanc or Côtes de bourg rouge) \n\nTo adjust quantities and avoid waste,\nthanks to choose your meal with this link, as soon as your registered. \nBesides, please note registration will be closed on Sunday 22nd of March to inform the restaurant with the number of guests.\n\n\nWhere ?  \nLet's meet a 7:30 PM in the Maria, Place Graslin \nPublic transports : Commerce / Médiathèque \nParkings around : Graslin, Médiathèque, Gloriette\n\nContact : Alexandra FLEURY 06 78 09 40 28 \n\n\n 
BEGIN:VALARM
ACTION:DISPLAY
TRIGGER:-PT60M
DESCRIPTION:REPORTE - Dîner "A chaque plat ses voisins/ Switching neighbour"
END:VALARM
END:VEVENT
END:VCALENDAR