BEGIN:VCALENDAR
VERSION:2.0
X-WR-TIMEZONE:Europe/Paris
PRODID:-//Audencia//NONSGML v1.0//EN
CALSCALE:GREGORIAN
BEGIN:VEVENT
SUMMARY:Reporté - Club Sport Business - Rencontre avec Le Paris FC !
DTSTART:20200325T193000
DTEND:20200325T220000
UID:628
DTSTAMP:20260425T205723
LOCATION:Audencia Executive Center Paris 95 rue Falguière 75015 Paris
DESCRIPTION: \n\nReporté\n\n\nVenez nous retrouver le mercredi 25 mars 2020 dès 19h30 afin de savoir plus sur le Paris FC : stratégie digitale & stratégie de développement du club et de l'engouement des sponsors pour la section féminine.\n\n\nIntervenants :\n \n\n\n\n Kévin BRIAND (Responsable Communication)\n\n\n\nSébastien ROSS (Directeur commercial)\n\n \nSoyez nombreux à vous inscrire !\n\n\n
BEGIN:VALARM
ACTION:DISPLAY
TRIGGER:-PT60M
DESCRIPTION:Reporté - Club Sport Business - Rencontre avec Le Paris FC !
END:VALARM
END:VEVENT
END:VCALENDAR