BEGIN:VCALENDAR
VERSION:2.0
X-WR-TIMEZONE:Europe/Paris
PRODID:-//Audencia//NONSGML v1.0//EN
CALSCALE:GREGORIAN
BEGIN:VEVENT
SUMMARY:REPORTE - Table Ronde / Management : Ordre militaire et entreprise libérée
DTSTART:20200319T183000
DTEND:20200319T230000
UID:627
DTSTAMP:20260425T205949
LOCATION:Nantes Saint Nazaire Développement Agence économique du territoire 16, Rue de Cornulier - Nantes  (quartier EuroNantes).
DESCRIPTION:\nEn raison de l'épidémie COVID 19, cette conférence est reportée.\nMerci de votre compréhension et à bientôt !\n\n\n \nINSCRIPTION ici :\n- participation de 25€ -\nhttps://www.hecalumni.fr/group/pays-de-la-loire/71/calendar/table-ronde-engagement-militaire-et-entreprise-liberee/2020/03/19/5878\n\n\nHEC Alumni invite l'inter-Alumni (dont Audencia) à une table ronde pour croiser les regards sur deux formes d'organisations apparemment bien différentes :\n \n\n	D'un côté, l'entreprise libérée avec David LE GLANAËR, Co-fondateur de SYD, dont "les salariés sont libres et responsables d'entreprendre toutes les actions qu'ils estiment les meilleures pour l'entreprise". Nous interrogerons ce modèle séduisant, sans langue de bois, pour savoir, par exemple, comment gérer une crise quand il n'y a plus de Chef.\n\n \n\n\n	De l'autre, la Gendarmerie Nationale organisée suivant l'ordre militaire avec Richard PÉROUGIÉ, Colonel de l'Etat-Major et Thomas VERNIER, Chef d'Escadron à Saint-Nazaire qui pourront notamment nous expliquer comment motiver les brigades lors d'interventions comportant lourds risques physiques et fortes charges psychologiques. Nous évoquerons aussi les axes d'innovations managériales à l'oeuvre dans l'une des plus anciennes institutions françaises.\n\n\nDeux modèles... deux cultures en contradiction ? Pas tant que cela car nous identifierons bien des points de convergence :\n  - la confiance, l'accompagnement et l'orientation des efforts vers une mission partagée comme postulats...\n  - un socle de valeurs communes,\n  - un niveau d'engagement fort des équipes comme résultante. \nBref... de quoi repartir inspiré...\n\n\nAnimateur : \nBenoit DE SAULCE LATOUR, ancien Colonel de l'Armée de Terre, fondateur de TeamDecide, consultant et formateur en management.\n\nProgramme : \n18h30-19h   : accueil\n19h - 20h30 : table ronde\n20h30 - 23h : cocktail dînatoire\n\n 
BEGIN:VALARM
ACTION:DISPLAY
TRIGGER:-PT60M
DESCRIPTION:REPORTE - Table Ronde / Management : Ordre militaire et entreprise libérée
END:VALARM
END:VEVENT
END:VCALENDAR