BEGIN:VCALENDAR
VERSION:2.0
X-WR-TIMEZONE:Europe/Paris
PRODID:-//Audencia//NONSGML v1.0//EN
CALSCALE:GREGORIAN
BEGIN:VEVENT
SUMMARY:Club Culture & Management - Speed Meeting - Audencia Ecole du Louvre
DTSTART:20200226T180000
DTEND:20200226T210000
UID:625
DTSTAMP:20260425T205948
LOCATION:École du Louvre Paris
DESCRIPTION:Pour la seconde fois, Audencia Alumni et Ecole du Louvre Alumni s'associent pour un grand événement professionnel rassemblant jeunes et anciens diplômés des deux établissements.\nPour cette occasion, dix tables rondes professionnelles, illustrant les spécificités de l'Ecole du Louvre et d'Audencia, vous accueilleront pour des échanges individuels.\n\n\nLe but :\n\n\n	\n	Présenter son parcours universitaire et professionnel \n	\n	\n	Élargir son réseau en faisant de nouvelles rencontres professionnelles\n	\n	\n	Faire connaître ses projets et ses savoir-faire\n	\n	\n	Partager ses bonnes pratiques, ses astuces, ses contacts\n	\n\n\n\nLa règle :\nSélectionner 5 secteurs professionnels (plus 2 optionnels) parmi les 10 proposés :\n \n1. Marché de l'art\n2. Musée\n3. Monde de l'édition\n4. Mécénat\n5. Luxe et patrimoine\n6. Cinéma\n7. Musique / Opéra / Arts vivants\n8. Médiation\n9. Conseil\n10. Multi-média / Numérique\n\nParticiper à 5 tables rondes et échanger pendant 10-15 minutes avec chaque interlocuteur\n\nDurant les échanges, des rafraîchissements seront offerts à la cafétéria de l'Ecole du Louvre. Enfin, pour poursuivre les échanges, nous nous retrouverons autour d'une planche et d'un verre dans un bar proche de l'Ecole du Louvre.\n \n\nInscription souhaitée avant le jeudi 20 février 2020. \n\n
BEGIN:VALARM
ACTION:DISPLAY
TRIGGER:-PT60M
DESCRIPTION:Club Culture & Management - Speed Meeting - Audencia Ecole du Louvre
END:VALARM
END:VEVENT
END:VCALENDAR