BEGIN:VCALENDAR
VERSION:2.0
X-WR-TIMEZONE:Europe/Paris
PRODID:-//Audencia//NONSGML v1.0//EN
CALSCALE:GREGORIAN
BEGIN:VEVENT
SUMMARY:Reporté - Club Activités Culturelles - Stand-up comedy - Olivier Giraud's "How to become a Parisian in one hour?"
DTSTART:20200403T190000
DTEND:20200403T203000
UID:624
DTSTAMP:20260425T210048
LOCATION:Théâtre des Nouveautés Boulevard Poissonnière Paris
DESCRIPTION:You love Paris but you think that Parisians are...different? You are completely right!\nDo you need some help to understand Parisians?\n\n \n\nAudencia Alumni's Cultural Activities Club invites you to an evening of fun & banter "How to become a Parisian in one hour?".\n\nOlivier Giraud will teach you everything you need to know in order to enjoy Paris! This comedy is presented in the form of lessons, teaching you how to behave like a real Parisian in a taxi, shop, metro, restaurant and even in future relationships... \n\nEnjoy a night out in the heart of Paris surrounded by Parisians and a multicultural audience !\nThis is the ultimate guide to enjoy Paris!\nEnjoyed by more than 800 000 spectators, this show is much more than a stand-up comedy!\n \n\nSeating is limited. So register soon!\n\n********\n\n \n\nDevenez un vrai parisien dans les magasins, restaurants, taxis, métro etc. Au terme de cette formation ludique et interactive, le "Parisien" n'aura plus aucun secret pour vous !\nDéjà plus de 800 000 spectateurs ont suivi les conseils d'Olivier Giraud. Pourquoi pas vous ? \nLe niveau d'anglais vous fait peur ? Rassurez-vous, nos spectateurs Français sortent du théâtre avec l'arrogante sensation d'être bilingue.\nVenez-vous détendre dans une atmosphère internationale où Français et expatriés se mélangent pour rire du comportement des habitants de la Capitale !\nEt pour les Parisiens, le miroir de votre quotidien vous attend...\nDress code pour les Parisiens : Ne changez pas vos habitudes, venez en noir !\nDress code pour les Provinciaux : Venez comme vous êtes mais ne nous faites pas honte !\n \n\nLe nombre de places est limité. Alors inscrivez-vous vite !\n\n\n\n \n\nQuestions? : nushad.merchant@audencia.com\n\n 
BEGIN:VALARM
ACTION:DISPLAY
TRIGGER:-PT60M
DESCRIPTION:Reporté - Club Activités Culturelles - Stand-up comedy - Olivier Giraud's "How to become a Parisian in one hour?"
END:VALARM
END:VEVENT
END:VCALENDAR