BEGIN:VCALENDAR
VERSION:2.0
X-WR-TIMEZONE:Europe/Paris
PRODID:-//Audencia//NONSGML v1.0//EN
CALSCALE:GREGORIAN
BEGIN:VEVENT
SUMMARY:MS MOS - Conférence avec le Think tank Sport et Citoyenneté
DTSTART:20200326T183000
DTEND:20200326T203000
UID:622
DTSTAMP:20260425T205900
LOCATION:Comité Départemental Olympique et Sportif de Seine-Saint-Denis 32 rue Delizy Hall 2 93694 PANTIN CEDEX
DESCRIPTION:Dans le cadre d’un projet pédagogique mené avec les étudiants du Mastère Spécialisé en Management des Organisations de Sport (MS MOS), le Think tank Sport et Citoyenneté et Audencia Business School organiseront une conférence.\n\nPlus d'infos seront publiées bientôt. Bloquez bien cette date dans vos agendas.
BEGIN:VALARM
ACTION:DISPLAY
TRIGGER:-PT60M
DESCRIPTION:MS MOS - Conférence avec le Think tank Sport et Citoyenneté
END:VALARM
END:VEVENT
END:VCALENDAR