BEGIN:VCALENDAR
VERSION:2.0
X-WR-TIMEZONE:Europe/Paris
PRODID:-//Audencia//NONSGML v1.0//EN
CALSCALE:GREGORIAN
BEGIN:VEVENT
SUMMARY:Annulé - MS MOS - Conférence - Entre concurrence et complémentarité, quelle place pour les nouveaux médias sportifs face aux médias traditionnels ?
DTSTART:20200317T183000
DTEND:20200317T220000
UID:621
DTSTAMP:20260425T210611
LOCATION:Audencia 95 rue Falguière 75015 Paris
DESCRIPTION:\nAnnulé\n\n\nLes étudiants du Mastère Spécialisé en Management des Organisations de Sport (MS MOS) organisent une conférence sur la thématique :\n \n\n"Entre concurrence et complémentarité, quelle place pour\nles nouveaux médias sportifs face aux médias traditionnels ?" \nle mardi 17 mars à partir de 18h30 sur le campus parisien\n\n\nPlus d'infos seront publiées bientôt. Bloquez bien cette date dans vos agendas.
BEGIN:VALARM
ACTION:DISPLAY
TRIGGER:-PT60M
DESCRIPTION:Annulé - MS MOS - Conférence - Entre concurrence et complémentarité, quelle place pour les nouveaux médias sportifs face aux médias traditionnels ?
END:VALARM
END:VEVENT
END:VCALENDAR