BEGIN:VCALENDAR
VERSION:2.0
X-WR-TIMEZONE:Europe/Paris
PRODID:-//Audencia//NONSGML v1.0//EN
CALSCALE:GREGORIAN
BEGIN:VEVENT
SUMMARY:France Alumni - Bangalore Job Fair
DTSTART:20170708T140000
DTEND:20170708T180000
UID:62
DTSTAMP:20260425T205813
LOCATION:Bangalore - India
DESCRIPTION:France Alumni are organising a job fair in Bangalore on 8th July.\n\nFor more information and to join the France Alumni network: http://jobs.ifindia.in/
BEGIN:VALARM
ACTION:DISPLAY
TRIGGER:-PT60M
DESCRIPTION:France Alumni - Bangalore Job Fair
END:VALARM
END:VEVENT
END:VCALENDAR