BEGIN:VCALENDAR
VERSION:2.0
X-WR-TIMEZONE:Europe/Paris
PRODID:-//Audencia//NONSGML v1.0//EN
CALSCALE:GREGORIAN
BEGIN:VEVENT
SUMMARY:Webinar: Daniel Porot on valuing past experiences
DTSTART:20200305T130000
DTEND:20200305T140000
UID:619
DTSTAMP:20260425T210023
LOCATION:
DESCRIPTION:Whether applying for a job, writing a CV, or negotiating with an employer, we need to understand and communicate what differentiates us.  The key to clarifying our distinctiveness is to properly value our past experiences and achievements. In this webinar, Daniel Porot will explain how to audit our career history, identify our ultimate skills and achievements, and describe them concisely and compellingly to employers.\n\nDaniel will start by outlining a method we can each use to inventory our career history and quickly capture relevant achievements.  In particular we will discuss:\n\n\n	Different ways to jog your memory and quickly capture your career history\n	Which elements of your past to choose (and which to ignore)\n	How to focus stories into to a single concise statement (a “flash achievement”)\n	How to quantify achievements which "can’t be quantified"\n	How to talk about your individual role in large projects or teams.\n\n\nOnce you have a portfolio of flash achievements we will explore some of the ways you can use them in your career, including:\n\n\n	To create more effective CVs, speculative approaches and online profiles\n	to convince interviewers you are the ideal candidate\n	To negotiate salary or raises\n	To negotiate your annual bonus\n	To excel in annual reviews and assessments.\n\n\n \n\nREGISTER HERE\n(use code "audstudent" if ticket does not show)\n\n\n\nAll participants receive\nEveryone who registers for this event will receive:\n\n\n	Access to the webinar and the chance to ask questions live\n	Catch-up recording of the webinar\n	A bonus materials resource pack including slides and support materials\n\n\n\nEvent times around the world are here.\n \n\n
BEGIN:VALARM
ACTION:DISPLAY
TRIGGER:-PT60M
DESCRIPTION:Webinar: Daniel Porot on valuing past experiences
END:VALARM
END:VEVENT
END:VCALENDAR