BEGIN:VCALENDAR
VERSION:2.0
X-WR-TIMEZONE:Europe/Paris
PRODID:-//Audencia//NONSGML v1.0//EN
CALSCALE:GREGORIAN
BEGIN:VEVENT
SUMMARY:Webinar: Steve Dalton on connecting with your next employer
DTSTART:20200206T190000
DTEND:20200206T200000
UID:618
DTSTAMP:20260425T205818
LOCATION:
DESCRIPTION:Most jobs are not advertised: they are filled via referrals and networks. But most of us find selling ourselves and networking uncomfortable and don’t know how to build contacts with target employers. Too often we retreat into “busy work”: Plenty of activity, lots of applications, but no results.\n\nThe solution is not to attend more events or learn to “pitch” ourselves better. The answer, developed by Steve Dalton (in his bestselling job-search guide The 2-Hour Job Search) is a different approach: a detailed process for turning strangers into advocates, leading to new networks, more referrals and interviews and ultimately more and better job offers.\n\nIn the new edition of The 2-Hour Job Search (coming in April 2020) Steve explains the precise type of outreach (the “6-point email”) that is most effective for making new contacts in your job search. Steve’s strategy will allow you to:\n\n\n	Find people working in your target industry (and at particular employers)\n	Reach out to them in a brief email (less than 75 words)\n	Determine who will help you and who won’t\n	Secure informational meetings (on the phone or in person)\n	Build a network of advocates ready to refer you for jobs as they come up.\n\n\n\nIn this webinar we will cover the key techniques you need to master to make this contact strategy work for you. For those familiar with the method already. Steve has updated advice on emailing potential new employers to share and will show how to make this type of contact as effective as possible.\n \n\nREGISTER HERE\n(use code "audstudent" if ticket does not show)\n\n\n\nEveryone who registers for this event will receive:\n\n\n	Access to the webinar and the chance to ask questions live\n	Catch-up recording of the webinar\n	A bonus materials resource pack including slides and support materials\n\n\nEvent times around the world are here.\n\n \n\n
BEGIN:VALARM
ACTION:DISPLAY
TRIGGER:-PT60M
DESCRIPTION:Webinar: Steve Dalton on connecting with your next employer
END:VALARM
END:VEVENT
END:VCALENDAR