BEGIN:VCALENDAR
VERSION:2.0
X-WR-TIMEZONE:Europe/Paris
PRODID:-//Audencia//NONSGML v1.0//EN
CALSCALE:GREGORIAN
BEGIN:VEVENT
SUMMARY:Club Culture & Management - Mécénat : peut-on choisir ses mécènes ?
DTSTART:20200226T190000
DTEND:20200226T210000
UID:615
DTSTAMP:20260425T210147
LOCATION:Fondation d'entreprise Ricard
DESCRIPTION:Il est acquis aujourd’hui qu’un mécène doit pouvoir choisir les projets qu’il soutient, en accord avec ses valeurs, ses axes stratégiques. À l’inverse, les institutions culturelles peuvent-elles s’offrir le luxe de choisir leurs mécènes, dans une période de recherche de financement accrue et dans un contexte de concurrence féroce entre ces acteurs culturels et plus largement, entre les différents secteurs de l’intérêt général (éducation, santé, solidarité…) ?\n\nAprès une période faste, le mécénat est désormais sous les feux des projecteurs, en témoignent la remise en cause du cadre fiscal du mécénat et les nombreux scandales qui ont éclaté récemment : souvent mis en lumière par la société civile, de nombreux mécènes « encombrants » sont aujourd’hui pointés du doigt, en France comme à l’étranger.\n\nDes professionnels du secteur viendront partager leur expérience en la matière, nous parleront des outils mis en place pour cadrer leurs actions et nous donneront les clefs d’une gestion de crise réussie.\n \n\nINTERVENANTS\n\nSarah HUISMAN-CORIDIAN, Associée Fondatrice, Cabinet Equanity\nPascal RIU, Directeur Adjoint, Arop (Association pour le Rayonnement de l'Opéra national de Paris)\n \n\nModérateurs\n\n\n	\n	Fanny Fournier \n	Opéra National de Bordeaux/Responsable Développement et Mécénat\n	\n\n\n\nPour s'inscrire : https://bit.ly/2GDkUAW
BEGIN:VALARM
ACTION:DISPLAY
TRIGGER:-PT60M
DESCRIPTION:Club Culture & Management - Mécénat : peut-on choisir ses mécènes ?
END:VALARM
END:VEVENT
END:VCALENDAR