BEGIN:VCALENDAR
VERSION:2.0
X-WR-TIMEZONE:Europe/Paris
PRODID:-//Audencia//NONSGML v1.0//EN
CALSCALE:GREGORIAN
BEGIN:VEVENT
SUMMARY:CANCELLED! MBA networking session in Paris
DTSTART:20200402T190000
DTEND:20200402T210000
UID:614
DTSTAMP:20260425T205854
LOCATION:Audencia Executive Campus 95 Rue Falguière 75015 Paris
DESCRIPTION:The MBA learning trip has been cancelled.\n\n\nAudencia Full-Time MBA participants are coming on a 2-day learning trip to Paris\n\nTheir agenda will be crammed with conferences, discussions, networking, company visits and more. Day one will end with an MBA networking session with alumni.\n\nCome and join this dedicated MBA event which will take place:\n\n	Date: Thursday 2 April\n	Time: from 19:00 to 21:00\n	Venue: Audencia's Executive Campus, 95 Rue Falguière, 75015 Paris\n\n \n \n\n\n \n\n\nIf you are a little curious about the MBA learning trip, here are some details about what's in store...\n \n \n\n\n	\n		\n			Thursday 2 April\n		\n		\n			09.00-09.30\n			Breakfast for speakers\n		\n		\n			09.30-10.30\n			Alumni round table “Successful career paths from International MBAs in Paris”\n		\n		\n			10.45-12.45\n			Group discussions with alumni\n		\n		\n			12.45-14.00\n			Lunch\n		\n		\n			14.00-15.45\n			Alumni round table “It’s all going Digital”\n		\n		\n			16.00-17.45\n			Alumni round table “The purpose-driven economy”\n		\n		\n			18.00-19.00\n			Building your cultural iceberg about “Living in France”\n		\n		\n			19.00-21.00\n			Alumni networking event\n		\n	\n\n \n \n\n	\n		\n			Friday 3 April\n		\n		\n			08.00-11.00\n			Company visit\n		\n		\n			12.30\n			Back on campus\n		\n		\n			13.00-14.00\n			Alumni round table “The impact of an MBA on your day job”\n			OR Corporate case\n		\n		\n			14.30-16.30\n			Live cases\n		\n		\n			16.45-17.15\n			Wrap up\n		\n	\n\n\n 
BEGIN:VALARM
ACTION:DISPLAY
TRIGGER:-PT60M
DESCRIPTION:CANCELLED! MBA networking session in Paris
END:VALARM
END:VEVENT
END:VCALENDAR