BEGIN:VCALENDAR
VERSION:2.0
X-WR-TIMEZONE:Europe/Paris
PRODID:-//Audencia//NONSGML v1.0//EN
CALSCALE:GREGORIAN
BEGIN:VEVENT
SUMMARY:Club Audencia Alumni Rugby - Match de gala
DTSTART:20200208T103000
DTEND:20200208T123000
UID:613
DTSTAMP:20260425T223651
LOCATION:Centrale Nantes
DESCRIPTION:Match de Gala entre étudiants et diplômés du Groupe Audencia le samedi 8 février 2020 sur le terrain synthétique de Centrale Nantes à 10h30.\n\nLes anciens reviennent en pays nantais pour renouer avec une tradition - instaurée depuis plus de 15 ans - et effectuer une rencontre farouche mais joviale contre les étudiants actuels d'Audencia. Les anciens viendront avec l'équipe qui représente Audencia en division 1 de la FFSE tout au long de l'année, le XV de la Moustache.\n\nVenez nombreux encourager les minots et partager une bière avec nous à la fin des hostilités !\n\nPlus d'infos, contactez Niels GOMONT : niels.gomont@gmail.com\n\n
BEGIN:VALARM
ACTION:DISPLAY
TRIGGER:-PT60M
DESCRIPTION:Club Audencia Alumni Rugby - Match de gala
END:VALARM
END:VEVENT
END:VCALENDAR