BEGIN:VCALENDAR
VERSION:2.0
X-WR-TIMEZONE:Europe/Paris
PRODID:-//Audencia//NONSGML v1.0//EN
CALSCALE:GREGORIAN
BEGIN:VEVENT
SUMMARY:Career Connections Week 2020 - Workshop Alumni
DTSTART:20200120T090000
DTEND:20200121T180000
UID:612
DTSTAMP:20260425T210048
LOCATION:Atlantic Campus 8 route de la Jonelière 44300 Nantes
DESCRIPTION:
BEGIN:VALARM
ACTION:DISPLAY
TRIGGER:-PT60M
DESCRIPTION:Career Connections Week 2020 - Workshop Alumni
END:VALARM
END:VEVENT
END:VCALENDAR